{
 "currentVersion": 10.91,
 "cimVersion": "2.9.0",
 "serviceDescription": "",
 "mapName": "Communities_2026_v2",
 "description": "This layer shows all incorporated and unincorporated areas of Los Angeles County. The incorporated city boundaries are maintained by the Department of Public Works as part of the cadastral landbase, and reflects the most current annexations as of the date listed below. The unincorporated areas are maintained by the Department of Regional Planning for land use planning efforts. This version was updated October 20, 2025 to fix an underlying issue with Esri.This layer was updated on 7/28/22 to match a major city boundary update from Public Works (see update history below). A hosted feature layer is located here.UPDATE HISTORY (beginning 2015)1/5/15 - Re-organization between Torrance and Rolling Hills Estates4/22/15 - Annexation to Los Angeles from Florence-Firestone (Jordan Downs)6/9/15 - updated 'Adopted Date' for Santa Clarita Valley (wasn't done before!)6/17/15 - following the adoption of the Antelope Valley Area Plan update, the boundary between Santa Clarita Valley and AV was updated, as well as the boundary between Kagel / Lopez Canyons and Antelope Valley.8/31/15 - updated Universal City for Reorganization 2014-01.11/5/15 - updated following the General Plan 2035 going into effect. Boundary change for Kagel / Lopez Canyons, South San Gabriel / Whittier Narrows, and added boundary for Pepperdine University.3/17/16 - following an Assessor adjustment of parcel #3022012017, city boundary between Palmdale and AV was adjusted. Informed DPW as well.4/21/16 - updated San Clemente Island to match what DPW had (compared to imagery, ours was shifted). Also a re-organization between the cities of Rolling Hills Estates, Rolling Hills, and Rancho Palos Verdes. Links to both are here (document 1, document 2).11/15/16 - Updated for annexation to Santa Clarita that became effective on this day (link to official annexation document is here). Also, updates that resulted from a comprehensive city boundary update after comparison with Public Works' city boundary layer.4/19/17 - Updated for reorganization between the cities of Pomona and Diamond Bar (click here).2/5/18 - Updated for reorganization between the cities of Monrovia and Bradbury (click here).11/20/18 - Updated for RPPL 2017005805 (adopted 10/30/18) for re-alignments between the unincorporated communities of Santa Clarita Valley and Antelope Valley (for plan amendment, click here).11/21/18 - updated for Plum Canyon / Skyline Ranch / North Sand Canyon Annexation. This annexation was effective on 11/15/18, and a link to the official LAFCO annexation document is here.1/29/19 - updated for South Walnut / Pomona annexation, which was effective on 1/16/19. A link to the official LAFCO annexation document is here.5/28/19 - updated for detachment from city of Los Angeles to Del Aire. Effective 5/16/19, and a link to the official LAFCO annexation document is here.7/25/19 - updated for annexation and detachment from the city of Arcadia to South Monrovia Islands and East Pasadena-East San Gabriel, respectively. Effective 6/13/19, and a link to the official LAFCO annexation document is here.1/28/21 - updated a couple errors in the data - Date Adopted for the Florence-Firestone Community Plan, and updated Type for Walnut Park to 'NEIGH' (character length limit).1/26/22 - updated the Twin Lakes / Oat Mountain community boundary through zoning conflation project. This is to follow the updated parcels along the southern Twin Lakes border.4/12/22 - updated Gilmore Island as it was found to be 5 feet too wide on the easterly boundary. Consulted with Assessor and Public Works for confirmation.5/23/22 - updated the boundary between Twin Lakes and Oat Mountain to account for a parcel shift as identified by the Zoning Conflation project.7/28/22 - major update to all city boundaries in the entire county based on an update from Public Works. Several city boundaries were updated to follow parcels, with the majority of changes being slivers, or very minor shifts. The coastline was the major adjustment and used the latest data from NOAA.8/17/22 - boundary adjustment between Industry and North Whittier per DPW update (APN 8125021943).12/20/22 - updated for Reorganization (Tesoro Del Valle) between Santa Clarita and Santa Clarita Valley. Effective on 11/14/22.4/10/23 - fixed a slight discrepancy on APN 7351036014 in West Carson (city boundary cut through this parcel) - confirmed with DPW on this date.4/1/24 - Updated the community of View Park official name - we had as 'Ladera Heights / Viewpark - Windsor Hills' now correctly shown as 'Ladera Heights / View Park - Windsor Hills'.4/14/24 - Updated for the annexation to the City of La Verne that was effective on 3/31/24. Annexation document is here.6/20/24 - Updated with three new unincorporated communities resulting from the East San Gabriel Valley Area Plan update.12/11/24 - Updated to an annexation to the City of Whittier that was effective on 11/12/24. Annexation document is here.3/19/25 - Updated for annexation to the city of Duarte (removal of northernmost South Monrovia Islands community). Annexation was effective on 3/17/25.3/20/25 - Updated for a boundary adjustment between Arcadia and Monrovia (APN: 5780-019-011).4/9/25 - Updated communities resulting from the update of the South Bay Area Plan, and the Westside Area Plan (splitting Del Aire into Del Aire and Wiseburn); renaming 'Alondra Park' to 'Alondra Park / El Camino Village', 'Westfield' to 'Westfield / Academy Hills', and 'West Fox Hills' to 'Del Rey'.9/1/25 - Updated for annexation to the City of San Gabriel, from the unincorporated community of East Pasadena - East San Gabriel. APN: 5374027005",
 "copyrightText": "County of Los Angeles\nDepartment of Regional Planning, Department of Public Works, Assessor's Office",
 "supportsDynamicLayers": false,
 "layers": [
  {
   "id": 0,
   "name": "Communities_2026_Project",
   "parentLayerId": -1,
   "defaultVisibility": true,
   "subLayerIds": null,
   "minScale": 0,
   "maxScale": 0,
   "type": "Feature Layer",
   "geometryType": "esriGeometryPolygon",
   "supportsDynamicLegends": true
  }
 ],
 "tables": [],
 "spatialReference": {
  "wkid": 102100,
  "latestWkid": 3857,
  "xyTolerance": 0.001,
  "zTolerance": 0.001,
  "mTolerance": 0.001,
  "falseX": -20037700,
  "falseY": -30241100,
  "xyUnits": 10000,
  "falseZ": -100000,
  "zUnits": 10000,
  "falseM": -100000,
  "mUnits": 10000
 },
 "singleFusedMapCache": true,
 "tileInfo": {
  "rows": 256,
  "cols": 256,
  "dpi": 96,
  "format": "PNG32",
  "compressionQuality": 0,
  "origin": {
   "x": -2.0037508342787E7,
   "y": 2.0037508342787E7
  },
  "spatialReference": {
   "wkid": 102100,
   "latestWkid": 3857,
   "xyTolerance": 0.001,
   "zTolerance": 0.001,
   "mTolerance": 0.001,
   "falseX": -20037700,
   "falseY": -30241100,
   "xyUnits": 10000,
   "falseZ": -100000,
   "zUnits": 10000,
   "falseM": -100000,
   "mUnits": 10000
  },
  "lods": [
   {
    "level": 0,
    "resolution": 156543.033928,
    "scale": 5.91657527591555E8
   },
   {
    "level": 1,
    "resolution": 78271.5169639999,
    "scale": 2.95828763795777E8
   },
   {
    "level": 2,
    "resolution": 39135.7584820001,
    "scale": 1.47914381897889E8
   },
   {
    "level": 3,
    "resolution": 19567.8792409999,
    "scale": 7.3957190948944E7
   },
   {
    "level": 4,
    "resolution": 9783.93962049996,
    "scale": 3.6978595474472E7
   },
   {
    "level": 5,
    "resolution": 4891.96981024998,
    "scale": 1.8489297737236E7
   },
   {
    "level": 6,
    "resolution": 2445.98490512499,
    "scale": 9244648.868618
   },
   {
    "level": 7,
    "resolution": 1222.99245256249,
    "scale": 4622324.434309
   },
   {
    "level": 8,
    "resolution": 611.49622628138,
    "scale": 2311162.217155
   },
   {
    "level": 9,
    "resolution": 305.748113140558,
    "scale": 1155581.108577
   },
   {
    "level": 10,
    "resolution": 152.874056570411,
    "scale": 577790.554289
   },
   {
    "level": 11,
    "resolution": 76.4370282850732,
    "scale": 288895.277144
   },
   {
    "level": 12,
    "resolution": 38.2185141425366,
    "scale": 144447.638572
   },
   {
    "level": 13,
    "resolution": 19.1092570712683,
    "scale": 72223.819286
   },
   {
    "level": 14,
    "resolution": 9.55462853563415,
    "scale": 36111.909643
   },
   {
    "level": 15,
    "resolution": 4.77731426794937,
    "scale": 18055.954822
   },
   {
    "level": 16,
    "resolution": 2.38865713397468,
    "scale": 9027.977411
   },
   {
    "level": 17,
    "resolution": 1.19432856685505,
    "scale": 4513.988705
   },
   {
    "level": 18,
    "resolution": 0.597164283559817,
    "scale": 2256.994353
   },
   {
    "level": 19,
    "resolution": 0.298582141647617,
    "scale": 1128.497176
   },
   {
    "level": 20,
    "resolution": 0.14929107082380833,
    "scale": 564.248588
   },
   {
    "level": 21,
    "resolution": 0.07464553541190416,
    "scale": 282.124294
   },
   {
    "level": 22,
    "resolution": 0.03732276770595208,
    "scale": 141.062147
   }
  ]
 },
 "storageInfo": {
  "storageFormat": "esriMapCacheStorageModeCompactV2",
  "packetSize": 128
 },
 "initialExtent": {
  "xmin": -1.3197872351172702E7,
  "ymin": 4093120.737216684,
  "xmax": -1.3104239181951744E7,
  "ymax": 4157797.1355241477,
  "spatialReference": {
   "cs": "pcs",
   "wkid": 102100
  }
 },
 "fullExtent": {
  "xmin": -1.3235292559142515E7,
  "ymin": 4097057.6207950683,
  "xmax": -1.3098530911743613E7,
  "ymax": 4139926.244391271,
  "spatialReference": {
   "cs": "pcs",
   "wkid": 102100
  }
 },
 "datesInUnknownTimezone": false,
 "units": "esriMeters",
 "supportedImageFormatTypes": "PNG32,PNG24,PNG,JPG,DIB,TIFF,EMF,PS,PDF,GIF,SVG,SVGZ,BMP",
 "documentInfo": {
  "Title": "",
  "Author": "",
  "Comments": "",
  "Subject": "",
  "Category": "",
  "AntialiasingMode": "None",
  "TextAntialiasingMode": "Force",
  "Version": "2.9.0",
  "Keywords": ""
 },
 "supportsQueryDomains": true,
 "supportedQueryFormats": "JSON, geoJSON, PBF",
 "referenceScale": 0.0,
 "datumTransformations": [
  {
   "geoTransforms": [
    {
     "wkid": 108190,
     "latestWkid": 108190,
     "transformForward": true,
     "name": "WGS_1984_(ITRF00)_To_NAD_1983"
    }
   ]
  },
  {
   "geoTransforms": [
    {
     "wkid": 108190,
     "latestWkid": 108190,
     "transformForward": true,
     "name": "WGS_1984_(ITRF00)_To_NAD_1983"
    }
   ]
  },
  {
   "geoTransforms": [
    {
     "wkid": 108190,
     "latestWkid": 108190,
     "transformForward": false,
     "name": "WGS_1984_(ITRF00)_To_NAD_1983"
    }
   ]
  }
 ],
 "supportsDatumTransformation": true,
 "archivingInfo": {
  "supportsHistoricMoment": false
 },
 "supportsClipping": true,
 "supportsSpatialFilter": true,
 "supportsTimeRelation": true,
 "supportsQueryDataElements": true,
 "maxRecordCount": 1000,
 "maxImageHeight": 4096,
 "maxImageWidth": 4096,
 "minScale": 5.91657527591555E8,
 "maxScale": 141.062147,
 "exportTilesAllowed": false,
 "maxExportTilesCount": 100000,
 "capabilities": "TilesOnly,Tilemap",
 "minLOD": 12,
 "maxLOD": 14,
 "supportedExtensions": "",
 "serviceItemId": "086b8ebce3344dfbbefaa2933aff6e7a"
}
